BEGIN:VCALENDAR
VERSION:2.0
PRODID:-//eventon.com NONSGML v1.0//EN
CALSCALE:GREGORIAN
METHOD:PUBLISH
BEGIN:VEVENT
UID:69e74408396b2
DTSTAMP:20260421T093152Z
DTSTART:20260225T100000Z
DTEND:20260405T160000Z
LOCATION:Creativemelbourne Gallery Creative Melbourne Gallery\,  Church St\,  Melbourne\,  Derby
SUMMARY:EXHIBITION- Urban Impressions
DESCRIPTION:I’m delighted to be exhibiting at the Creative Gallery in Mel
 bourne for Urban Impressions—a dynamic exhibition bringing together the w
 ork of eight artists\,  each offering their own unique response to the them
 e of the urban landscape. This exhibition explores the many facets of city 
 life\,  from architectural forms and shifting[..]\nhttps://tom-voyce.com/ev
 ents/exhibition-urban-impressions/
URL:https://tom-voyce.com/events/exhibition-urban-impressions/
END:VEVENT
END:VCALENDAR