BEGIN:VCALENDAR
VERSION:2.0
PRODID:-//eventon.com NONSGML v1.0//EN
CALSCALE:GREGORIAN
METHOD:PUBLISH
BEGIN:VEVENT
UID:69e748637a7d2
DTSTAMP:20260421T095027Z
DTSTART:20260403T100000Z
DTEND:20260405T160000Z
LOCATION:Bullclough Art School Bullclough Art School\,  Leek ST13 7RR
SUMMARY:WORKSHOP- Beginners Guide to Oils
DESCRIPTION:Dates: 3rd &#8211; 5th APRIL 2026 LEVEL: ALL LEVELS ALL MATERIA
 LS AND REFRESHMENTS INCLUDED\,  LUNCH OPTIONAL Join us this spring in the s
 tunning English Peak District for a Beginner’s Guide to Oils Workshop\,  
 open to all abilities. Immerse yourself in the fresh colors and light of th
 e season as you[..]\nhttps://tom-voyce.com/events/workshop-oils-into-landsc
 ape-2/
URL:https://tom-voyce.com/events/workshop-oils-into-landscape-2/
END:VEVENT
END:VCALENDAR